BEGIN:VCALENDAR
VERSION:2.0
PRODID:-//Dillinger Staffing//Weekly Ship//EN
CALSCALE:GREGORIAN
METHOD:PUBLISH
BEGIN:VEVENT
UID:c1b8141c-9e96-4d28-a7ff-31bf1ae72505@dillingerstaffing.com
DTSTAMP:20260420T065339Z
DTSTART:20260422T210000Z
DTEND:20260422T223000Z
SUMMARY:SHIP 006 (Hermes)
DESCRIPTION:Do AI Agents wear sandals?\n\nWhat we built with Hermes Agent. 
 Is it much different than Openclaw? How?\n\nhttps://dillingerstaffing.com/
 labs/weekly-ship/event/ship-005-c1b814
URL:https://dillingerstaffing.com/labs/weekly-ship/event/ship-005-c1b814
LOCATION:Online
STATUS:CONFIRMED
TRANSP:OPAQUE
BEGIN:VALARM
ACTION:DISPLAY
DESCRIPTION:SHIP 006 (Hermes)
TRIGGER:-PT15M
END:VALARM
END:VEVENT
END:VCALENDAR
